BEGIN:VCALENDAR
VERSION:2.0
PRODID:-//Irish Stammering Association - ECPv4.0.5//NONSGML v1.0//EN
CALSCALE:GREGORIAN
METHOD:PUBLISH
X-WR-CALNAME:Irish Stammering Association
X-ORIGINAL-URL:http://stammeringireland.ie
X-WR-CALDESC:Events for Irish Stammering Association
BEGIN:VEVENT
DTSTART;TZID="UTC+0":20171102T200000
DTEND;TZID="UTC+0":20171102T214500
DTSTAMP:20171106T083925
CREATED:20170302T145114
LAST-MODIFIED:20171013T150340
UID:4899-1509652800-1509659100@stammeringireland.ie
SUMMARY:Waterford Support Group
DESCRIPTION:
URL:http://stammeringireland.ie/?tribe_events=waterford-support-group-20
LOCATION:37 Lower Yellow Road\, Waterford\, United States
CATEGORIES:Self Help Groups
END:VEVENT
END:VCALENDAR